BEGIN:VCALENDAR
VERSION:2.0
PRODID:-//Beacon for rare diseases - ECPv6.10.3//NONSGML v1.0//EN
CALSCALE:GREGORIAN
METHOD:PUBLISH
X-WR-CALNAME:Beacon for rare diseases
X-ORIGINAL-URL:https://www.rarebeacon.org
X-WR-CALDESC:Events for Beacon for rare diseases
REFRESH-INTERVAL;VALUE=DURATION:PT1H
X-Robots-Tag:noindex
X-PUBLISHED-TTL:PT1H
BEGIN:VTIMEZONE
TZID:Europe/Paris
BEGIN:DAYLIGHT
TZOFFSETFROM:+0100
TZOFFSETTO:+0200
TZNAME:CEST
DTSTART:20260329T010000
END:DAYLIGHT
BEGIN:STANDARD
TZOFFSETFROM:+0200
TZOFFSETTO:+0100
TZNAME:CET
DTSTART:20261025T010000
END:STANDARD
END:VTIMEZONE
BEGIN:VEVENT
DTSTART;VALUE=DATE:20260512
DTEND;VALUE=DATE:20260514
DTSTAMP:20260421T110801
CREATED:20251028T161244Z
LAST-MODIFIED:20251028T161244Z
UID:10000213-1778544000-1778716799@www.rarebeacon.org
SUMMARY:iDR26: Navigating the future of drug repurposing
DESCRIPTION:
URL:https://remedi4all.org/2026-international-drug-repurposing-conference/
LOCATION:Maison de la Poste\, 7 Rue Picard\, Bruxelles\, Belgium
CATEGORIES:Conference,In-person
ATTACH;FMTTYPE=image/png:https://www.rarebeacon.org/wp-content/uploads/2025/10/iDR26-Graphic-main-low-res.png
ORGANIZER;CN="Beacon for Rare Diseases":MAILTO:projects@rarebeacon.org
END:VEVENT
END:VCALENDAR